BEGIN:VCALENDAR
VERSION:2.0
PRODID:-//Library Market//iCal Export//EN
BEGIN:VEVENT
SUMMARY:Cannonballs, Hammers,  and Fireballs, Game on!
UID:474
DTSTAMP:20260420T120800Z
DTSTART:20260520T163000Z
DTEND:20260520T180000Z
LOCATION:Eudora Community Library, 14 E 9th St, Eudora, KS 66025, United S
 tates
ROOM: Cannonballs, Hammers,  and Fireballs, Game on!
DESCRIPTION:Cannonballs, Hammers, and Fireballs, Game on!11:30 AM - 1:00 P
 M K-5thJoin us for a movie and a game with your favorite Italian Plumber!
  It&#039;s time to game on at the library!   
URL:https://eudora.librarycalendar.com/event/cannonballs-hammers-and-fireb
 alls-game-474
END:VEVENT
END:VCALENDAR
